BEGIN:VCALENDAR
VERSION:2.0
PRODID:-//Petra Seubert - ECPv6.15.20//NONSGML v1.0//EN
CALSCALE:GREGORIAN
METHOD:PUBLISH
X-ORIGINAL-URL:https://petraseubert.de
X-WR-CALDESC:Veranstaltungen für Petra Seubert
REFRESH-INTERVAL;VALUE=DURATION:PT1H
X-Robots-Tag:noindex
X-PUBLISHED-TTL:PT1H
BEGIN:VTIMEZONE
TZID:Europe/Berlin
BEGIN:DAYLIGHT
TZOFFSETFROM:+0100
TZOFFSETTO:+0200
TZNAME:CEST
DTSTART:20180325T010000
END:DAYLIGHT
BEGIN:STANDARD
TZOFFSETFROM:+0200
TZOFFSETTO:+0100
TZNAME:CET
DTSTART:20181028T010000
END:STANDARD
BEGIN:DAYLIGHT
TZOFFSETFROM:+0100
TZOFFSETTO:+0200
TZNAME:CEST
DTSTART:20190331T010000
END:DAYLIGHT
BEGIN:STANDARD
TZOFFSETFROM:+0200
TZOFFSETTO:+0100
TZNAME:CET
DTSTART:20191027T010000
END:STANDARD
BEGIN:DAYLIGHT
TZOFFSETFROM:+0100
TZOFFSETTO:+0200
TZNAME:CEST
DTSTART:20200329T010000
END:DAYLIGHT
BEGIN:STANDARD
TZOFFSETFROM:+0200
TZOFFSETTO:+0100
TZNAME:CET
DTSTART:20201025T010000
END:STANDARD
END:VTIMEZONE
BEGIN:VEVENT
DTSTART;VALUE=DATE:20191026
DTEND;VALUE=DATE:20191028
DTSTAMP:20260422T025044
CREATED:20190819T105018Z
LAST-MODIFIED:20221114T175122Z
UID:10001004-1572048000-1572220799@petraseubert.de
SUMMARY:Gesundheit Pur I
DESCRIPTION:Aktuell wichtiger denn je ist\, so gesund wie möglich zu sein. I diesem Seminar  erfährst du Grundlegendes über Krankheit\, Notwendiges über Heilung und Wesentliches über das\, was möglich ist. \nDenn: Deine Natürlichkeit ist Gesund-Sein! \nGESUNDHEIT PUR I dient deinem Gesünder-Werden. Du erfährst\, wie und warum du Krankheit erschaffst\, und was es zu tun gilt\, um sich aus diesem Kreislauf zu lösen. \nGESUNDHEIT PUR I schenkt dir erste Einblicke in heilende Möglichkeiten und eröffnet Wege und Wissen. Es lädt Sie dazu ein\, dich und das Wesen von Gesundheit kennenzulernen und es in DIR zum Leben zu erwecken. \nAuch dient diese Zeit der Vorbereitung auf die viertägige tiefere HEILZEIT GESUNDHEIT PUR II.
URL:https://petraseubert.de/veranstaltung/gesundheit-pur-1/
LOCATION:YOGARAUM – Aschaffenburg\, Am Floßhafen 67\, Aschaffenburg\, 63739\, Deutschland
CATEGORIES:2. Gesundheit
ATTACH;FMTTYPE=image/jpeg:https://petraseubert.de/wp-content/uploads/2019/06/Veranstaltung_Gesundheit-Pur.jpg
END:VEVENT
END:VCALENDAR