BEGIN:VCALENDAR
VERSION:2.0
PRODID:-//Petra Seubert - ECPv6.15.20//NONSGML v1.0//EN
CALSCALE:GREGORIAN
METHOD:PUBLISH
X-WR-CALNAME:Petra Seubert
X-ORIGINAL-URL:https://petraseubert.de
X-WR-CALDESC:Veranstaltungen für Petra Seubert
REFRESH-INTERVAL;VALUE=DURATION:PT1H
X-Robots-Tag:noindex
X-PUBLISHED-TTL:PT1H
BEGIN:VTIMEZONE
TZID:Europe/Berlin
BEGIN:DAYLIGHT
TZOFFSETFROM:+0100
TZOFFSETTO:+0200
TZNAME:CEST
DTSTART:20180325T010000
END:DAYLIGHT
BEGIN:STANDARD
TZOFFSETFROM:+0200
TZOFFSETTO:+0100
TZNAME:CET
DTSTART:20181028T010000
END:STANDARD
BEGIN:DAYLIGHT
TZOFFSETFROM:+0100
TZOFFSETTO:+0200
TZNAME:CEST
DTSTART:20190331T010000
END:DAYLIGHT
BEGIN:STANDARD
TZOFFSETFROM:+0200
TZOFFSETTO:+0100
TZNAME:CET
DTSTART:20191027T010000
END:STANDARD
BEGIN:DAYLIGHT
TZOFFSETFROM:+0100
TZOFFSETTO:+0200
TZNAME:CEST
DTSTART:20200329T010000
END:DAYLIGHT
BEGIN:STANDARD
TZOFFSETFROM:+0200
TZOFFSETTO:+0100
TZNAME:CET
DTSTART:20201025T010000
END:STANDARD
BEGIN:DAYLIGHT
TZOFFSETFROM:+0100
TZOFFSETTO:+0200
TZNAME:CEST
DTSTART:20210328T010000
END:DAYLIGHT
BEGIN:STANDARD
TZOFFSETFROM:+0200
TZOFFSETTO:+0100
TZNAME:CET
DTSTART:20211031T010000
END:STANDARD
BEGIN:DAYLIGHT
TZOFFSETFROM:+0100
TZOFFSETTO:+0200
TZNAME:CEST
DTSTART:20220327T010000
END:DAYLIGHT
BEGIN:STANDARD
TZOFFSETFROM:+0200
TZOFFSETTO:+0100
TZNAME:CET
DTSTART:20221030T010000
END:STANDARD
END:VTIMEZONE
BEGIN:VEVENT
DTSTART;VALUE=DATE:20191214
DTEND;VALUE=DATE:20191217
DTSTAMP:20260420T080654
CREATED:20190819T110847Z
LAST-MODIFIED:20190924T094450Z
UID:10001005-1576281600-1576540799@petraseubert.de
SUMMARY:Gesundheit . Leben . Meisterwerk
DESCRIPTION:Ein Einblick in: die eigene Großartigkeit\, Heilung erinnern\, Gesund-Sein\, Einfluss nehmen\, Erwachen\, sich vom Leben  berühren lassen\, Wesentlich-Sein … \nRuft es Sie\, wirklich Einfluss zu nehmen und Leuchtturm zu sein? Dann fühlen Sie sich eingeladen zu diesem Wochenende. Es schenkt Einblick in das Jahrestraining GESUNDHEIT . LEBEN . MEISTERWERK.\nGleichwohl ist es ein würdevoller Beginn für den 21-Tage-Prozess. \n21 Tage\, die Ihrer Meisterschaft auf allen Ebenen gewidmet sind. Erfahren Sie\, was im Durchschreiten von Bewusstseinsräumen möglich ist. Dann\, wenn Sie sich mehr und mehr dem Wesentlichen\, Ihren Aufgaben und Ihren Fähigkeiten verschreiben. Freuen Sie sich auf Zeit für das Wesentliche\, auf Raum zum Ankommen und auf Bewusstsein\, das Sie in Ihre Mitte führt – um mit sich zu sein. Denn genau hier hat alles Wahrhaftige seinen Ursprung. Stellen Sie neue Weichen\, für ein wahrhaft gesundes\, erfülltes und bewusstes Leben.
URL:https://petraseubert.de/veranstaltung/gesundheit-leben-meisterwerk-kennenlernwochenende/
LOCATION:YOGARAUM – Aschaffenburg\, Am Floßhafen 67\, Aschaffenburg\, 63739\, Deutschland
CATEGORIES:1. Bewusstsein
ATTACH;FMTTYPE=image/jpeg:https://petraseubert.de/wp-content/uploads/2019/06/Veranstaltung_Tore-zum-Meisterwerk.jpg
END:VEVENT
BEGIN:VEVENT
DTSTART;VALUE=DATE:20200103
DTEND;VALUE=DATE:20200107
DTSTAMP:20260420T080654
CREATED:20190723T093906Z
LAST-MODIFIED:20191002T162348Z
UID:10000999-1578009600-1578355199@petraseubert.de
SUMMARY:Gesundheit Pur II
DESCRIPTION:Wenn Krankheit eine Momentaufnahme ist\, Heilung Ihre Aufgabe und Gesundheit die Antwort\, gibt es dann Unheilbares? Finden Sie es für sich heraus … bald! \nVier erkenntnisreiche Tage\, um ordnenden Einfluss auf Ihren Körper\, Ihre Gedanken und Ihr Fühlen zu nehmen. Wissen\, wie Sie Krankheit erschaffen und wie Heilung geschehen kann\, kann verinnerlicht werden. Unterstützt von Meditationen und Ritualen eröffnet sich eine Zeit der Selbsterkenntnis\, des Gesund-Werdens und vielleicht auch des Gesund-Seins. Wesentliches über Ihren Körper und Notwendiges über die Ebenen\, die Regie führen\, offenbart sich Ihnen\, sodass Sie sich die Frage\, ob es wirklich Unheilbares gibt\, neu und anders stellen und beantworten können. \nScheinen Sie gesund\, ist GESUNDHEIT PUR eine wunderbare Zeit des Körpererwachens\, um entspannt und in sich ruhend in LEBEN PUR\, TORE ZUM MEISTERWERK und MEISTERWERK zu gelangen. \nAnmerkungen:\nVoraussetzung: GESUNDHEIT PUR I
URL:https://petraseubert.de/veranstaltung/gesundheit-pur-2/
LOCATION:YOGARAUM – Aschaffenburg\, Am Floßhafen 67\, Aschaffenburg\, 63739\, Deutschland
CATEGORIES:2. Gesundheit
ATTACH;FMTTYPE=image/jpeg:https://petraseubert.de/wp-content/uploads/2019/06/Veranstaltung_Gesundheit-Pur.jpg
END:VEVENT
BEGIN:VEVENT
DTSTART;VALUE=DATE:20200524
DTEND;VALUE=DATE:20200530
DTSTAMP:20260420T080654
CREATED:20190723T095807Z
LAST-MODIFIED:20200514T143223Z
UID:10001000-1590278400-1590796799@petraseubert.de
SUMMARY:LEBEN PUR
DESCRIPTION:Ein Seminar der Befreiung\, um erfüllt im Hier und Jetzt anzukommen. Loslassen\, selbstbestimmt leben\, Brillanz zulassen u. v. m. sind Inhalt und Aufgabe. \nBewusst und wesensnah leben. Glück fühlen\, erfüllt sein. Zeichen setzen – für ein Leben\, das wie ein Leuchtfeuer den Horizont erhellt. \nLEBEN PUR bedeutet Zeit für Sie\, um tiefere Einblicke in das Bühnenbild Ihres Lebens zu erhalten. Stimmt es so für Sie\, ruft das ein oder andere nach Wandel\, sind Sie auf Ihrem Weg\, wissen Sie um Ihre Lebensaufgabe? Für all diese Fragen oder für die\, die Sie sich stellen möchten\, eröffnet Leben PUR reife Bewusstseinsräume\, um das\, was Ihnen wichtig ist\, zu eröffnen\, und um sich von dem zu verabschieden\, was nicht länger zu einem puren Leben gehört. Wesentliches kann entstehen – Unwesentliches kann verabschiedet werden. Besser geht`s nicht … 🙂 \n« Grenzen sprengend … befreiend … bewegend … wunderbar! » \nAnmerkung:\n2. Modul des 21-Tage-Prozesses GESUNDHEIT . LEBEN . MEISTERWERK\nKosten: Veranstaltungshonorar zzgl. Übernachtung und Tagespauschale
URL:https://petraseubert.de/veranstaltung/leben-pur/
LOCATION:Seminarhaus Fohlenweide\, Fohlenweide 1\, Hofbiber\, 36145\, Deutschland
CATEGORIES:1. Bewusstsein
ATTACH;FMTTYPE=image/jpeg:https://petraseubert.de/wp-content/uploads/2019/06/Veranstaltung_Leben-Pur.jpg
END:VEVENT
BEGIN:VEVENT
DTSTART;VALUE=DATE:20201010
DTEND;VALUE=DATE:20201013
DTSTAMP:20260420T080654
CREATED:20190723T100257Z
LAST-MODIFIED:20200908T174201Z
UID:10001001-1602288000-1602547199@petraseubert.de
SUMMARY:Tore zum Meisterwerk I
DESCRIPTION:Der Angst vor dem Tod und dem Leben begegnen. Mutig die Lebensbühne für das  eigene Meisterwerk eröffnen. In Hingabe sein und das Leben geschehen lassen. \nKlarheit\, Entschlossenheit und Hingabe als Qualitäten reinen Seins sind die Tore\, die es hier zu durchschreiten gilt und denen Sie sich in dieser sehr tiefen und auch stillen Zeit widmen werden. Bislang noch nicht betretene innere Räume schenken tiefere Toröffnungen\, die zum Abschied einladen\, um Raum für Wesentliches zu eröffnen. Hier kann größtmöglicher Einfluss wirken. Frei\, entschlossen und in Hingabe können Sie Ihr Lebens meistern – mit tiefem Wissen und der Erkenntnis\, wo die Quelle allen Seins ruht und durch Sie wirkt \n« Tief … erweckend … gnadenvoll » \nAnmerkung:\nErster Teil des 3. Modul des 21-Tage-Prozesses GESUNDHEIT . LEBEN . MEISTERWERK\, bestehend aus diesen Tagen und zwei Abenden. Diese sind:  10.11. und 10.12.2020\, 18 – 20 Uhr\nKosten: Veranstaltungshonorar\nVoraussetzung: LEBEN PUR
URL:https://petraseubert.de/veranstaltung/tore-zum-meisterwerk-teil-1/
LOCATION:YOGARAUM (bei ausreichend LIVE-Anmeldungen) und Zoom
CATEGORIES:1. Bewusstsein
ATTACH;FMTTYPE=image/jpeg:https://petraseubert.de/wp-content/uploads/2019/06/Veranstaltung_Tore-zum-Meisterwerk.jpg
END:VEVENT
BEGIN:VEVENT
DTSTART;VALUE=DATE:20210122
DTEND;VALUE=DATE:20210127
DTSTAMP:20260420T080654
CREATED:20200906T114903Z
LAST-MODIFIED:20200908T094318Z
UID:10001019-1611273600-1611705599@petraseubert.de
SUMMARY:Tore zum Meisterwerk II
DESCRIPTION:Der Angst vor dem Tod und dem Leben begegnen. Mutig die Lebensbühne für das  eigene Meisterwerk eröffnen. In Hingabe sein und das Leben geschehen lassen. \nKlarheit\, Entschlossenheit und Hingabe als Qualitäten reinen Seins sind die Tore\, die es hier zu durchschreiten gilt und denen Sie sich in dieser sehr tiefen und auch stillen Zeit widmen werden. Bislang noch nicht betretene innere Räume schenken tiefere Toröffnungen\, die zum Abschied einladen\, um Raum für Wesentliches zu eröffnen. Hier kann größtmöglicher Einfluss wirken. Frei\, entschlossen und in Hingabe können Sie Ihr Lebens meistern – mit tiefem Wissen und der Erkenntnis\, wo die Quelle allen Seins ruht und durch Sie wirkt \n« Tief … erweckend … gnadenvoll » \nAnmerkung:\nZweiter Teil des 3. Moduls des 21-Tage-Prozesses GESUNDHEIT . LEBEN . MEISTERWERK\nKosten: Veranstaltungshonorar zzgl. Übernachtung und Tagespauschale\nVoraussetzung: LEBEN PUR
URL:https://petraseubert.de/veranstaltung/tore-zum-meisterwerk-teil-2/
LOCATION:Seminarhaus Fohlenweide\, Fohlenweide 1\, Hofbiber\, 36145\, Deutschland
CATEGORIES:1. Bewusstsein
ATTACH;FMTTYPE=image/jpeg:https://petraseubert.de/wp-content/uploads/2019/06/Veranstaltung_Tore-zum-Meisterwerk.jpg
END:VEVENT
END:VCALENDAR