BEGIN:VCALENDAR
VERSION:2.0
PRODID:-//Petra Seubert - ECPv6.15.20//NONSGML v1.0//EN
CALSCALE:GREGORIAN
METHOD:PUBLISH
X-WR-CALNAME:Petra Seubert
X-ORIGINAL-URL:https://petraseubert.de
X-WR-CALDESC:Veranstaltungen für Petra Seubert
REFRESH-INTERVAL;VALUE=DURATION:PT1H
X-Robots-Tag:noindex
X-PUBLISHED-TTL:PT1H
BEGIN:VTIMEZONE
TZID:Europe/Berlin
BEGIN:DAYLIGHT
TZOFFSETFROM:+0100
TZOFFSETTO:+0200
TZNAME:CEST
DTSTART:20190331T010000
END:DAYLIGHT
BEGIN:STANDARD
TZOFFSETFROM:+0200
TZOFFSETTO:+0100
TZNAME:CET
DTSTART:20191027T010000
END:STANDARD
BEGIN:DAYLIGHT
TZOFFSETFROM:+0100
TZOFFSETTO:+0200
TZNAME:CEST
DTSTART:20200329T010000
END:DAYLIGHT
BEGIN:STANDARD
TZOFFSETFROM:+0200
TZOFFSETTO:+0100
TZNAME:CET
DTSTART:20201025T010000
END:STANDARD
BEGIN:DAYLIGHT
TZOFFSETFROM:+0100
TZOFFSETTO:+0200
TZNAME:CEST
DTSTART:20210328T010000
END:DAYLIGHT
BEGIN:STANDARD
TZOFFSETFROM:+0200
TZOFFSETTO:+0100
TZNAME:CET
DTSTART:20211031T010000
END:STANDARD
END:VTIMEZONE
BEGIN:VEVENT
DTSTART;VALUE=DATE:20200321
DTEND;VALUE=DATE:20200324
DTSTAMP:20260422T090630
CREATED:20190819T092441Z
LAST-MODIFIED:20190902T100919Z
UID:10001003-1584748800-1585007999@petraseubert.de
SUMMARY:Bewusst Berühren
DESCRIPTION:BEWUSST BERÜHREN ist ein Ankommen\, ein Sich-spüren-Lernen\, ist da sein und Sinnlichkeit zulassen. Berühren und Berührt-Sein werden zum Tanz der Zellen. \nWeil ohne Liebe und Bewusstsein nichts Wesentliches\, wie Heilung\, Wohlfühlen\, Lebensfreude und Spaß möglich ist und in dem Bewusstsein von Liebe Alles möglich wird\, ist BEWUSST BERÜHREN ein Geschenk an Sie\, sich von der Liebe bewussten Seins berühren zu lassen und sich mit sich selbst wohlzufühlen.\nBEWUSST BERÜHREN ist ein Ankommen\, ein Sich-spüren-Lernen\, ist da sein und Sinnlichkeit zulassen. Nur Mut\, dabei zu sein! Es ist wunderbar und wahrhaftig und für Sie im Einzelnen eine ebenso große Chance wie für Sie als Paar oder Team\, sich in einem Feld von Wahrheit nahezukommen\, nahe zu sein oder in Stille zu begegnen. Lassen Sie sich überraschen und lassen Sie sich ein auf eine Reise zu einer Sprache\, die so viel lauter als Worte sprechen kann. \nBERÜHRUNG ist sehr hilfreich und integrierend für alle tiefgreifenden und wandlungsreichen Lebensprozesse. So dient BEWUSST BERÜHREN auch der Vertiefung und Integration GESUNDHEIT . LEBEN . MEISTERWERK . \nAnmerkung:\nDie Veranstaltung besteht aus zwei Terminblöcken – 2. Terminblock: 22.-24.08.2020.
URL:https://petraseubert.de/veranstaltung/bewusst-beruehren/
LOCATION:YOGARAUM – Aschaffenburg\, Am Floßhafen 67\, Aschaffenburg\, 63739\, Deutschland
CATEGORIES:1. Bewusstsein
ATTACH;FMTTYPE=image/jpeg:https://petraseubert.de/wp-content/uploads/2019/06/Veranstaltung_Tore-zum-Meisterwek-II.jpg
END:VEVENT
END:VCALENDAR