BEGIN:VCALENDAR
VERSION:2.0
PRODID:-//Petra Seubert - ECPv6.15.20//NONSGML v1.0//EN
CALSCALE:GREGORIAN
METHOD:PUBLISH
X-WR-CALNAME:Petra Seubert
X-ORIGINAL-URL:https://petraseubert.de
X-WR-CALDESC:Veranstaltungen für Petra Seubert
REFRESH-INTERVAL;VALUE=DURATION:PT1H
X-Robots-Tag:noindex
X-PUBLISHED-TTL:PT1H
BEGIN:VTIMEZONE
TZID:Europe/Berlin
BEGIN:DAYLIGHT
TZOFFSETFROM:+0100
TZOFFSETTO:+0200
TZNAME:CEST
DTSTART:20190331T010000
END:DAYLIGHT
BEGIN:STANDARD
TZOFFSETFROM:+0200
TZOFFSETTO:+0100
TZNAME:CET
DTSTART:20191027T010000
END:STANDARD
BEGIN:DAYLIGHT
TZOFFSETFROM:+0100
TZOFFSETTO:+0200
TZNAME:CEST
DTSTART:20200329T010000
END:DAYLIGHT
BEGIN:STANDARD
TZOFFSETFROM:+0200
TZOFFSETTO:+0100
TZNAME:CET
DTSTART:20201025T010000
END:STANDARD
BEGIN:DAYLIGHT
TZOFFSETFROM:+0100
TZOFFSETTO:+0200
TZNAME:CEST
DTSTART:20210328T010000
END:DAYLIGHT
BEGIN:STANDARD
TZOFFSETFROM:+0200
TZOFFSETTO:+0100
TZNAME:CET
DTSTART:20211031T010000
END:STANDARD
BEGIN:DAYLIGHT
TZOFFSETFROM:+0100
TZOFFSETTO:+0200
TZNAME:CEST
DTSTART:20220327T010000
END:DAYLIGHT
BEGIN:STANDARD
TZOFFSETFROM:+0200
TZOFFSETTO:+0100
TZNAME:CET
DTSTART:20221030T010000
END:STANDARD
END:VTIMEZONE
BEGIN:VEVENT
DTSTART;TZID=Europe/Berlin:20200422T100000
DTEND;TZID=Europe/Berlin:20200422T113000
DTSTAMP:20260423T020527
CREATED:20200324T172426Z
LAST-MODIFIED:20200420T125759Z
UID:10001010-1587549600-1587555000@petraseubert.de
SUMMARY:«UPDATE für diese besondere Zeit»
DESCRIPTION:«Sei du selbst die Veränderung\, die du in der Welt sehen möchtest» \nAlles ist anders – wunderbar runtergefahren ist die Welt. Schade\, dass immer erst Dinge geschehen müssen\, damit der Mensch und die Welt zur Ruhe kommen\, die Erde wieder aufatmen kann und der Himmel klar ist. \nDoch natürlich sind wir auch inmitten einer Zeit\, die Ängste auslösen kann. Wer weiß – vielleicht klopfen sogar existenzielle Sorgen an … verständlicherweise. Nun\, was auch immer uns in dieser Zeit bewegt – Angst\, Hoffnung\, Erwachen\, Freude\, Ruhe -\, eröffnet sie uns auch große Chancen. Chancen\, für einen tiefgreifenden Wandel in ein Mehr an Bewusstsein. Werde dir also JETZT klar\, was dir wichtig ist und nehme Einfluss. Halte deine Energie\, deine Ausrichtung und dein Bewusstsein. Hilf der Welt und damit dir umfassenden Wandel im besten Sinne zuzulassen. Jetzt\, in dieser stillgelegten Welt\, und dann hoffentlich auch weit darüber hinaus … \n\n\n\n\nOnlineseminar \nSinnvoller und verantwortungsreicher Umgang weit über das hinaus\, was gerade geschieht:  \n22.04.2020 von 10.00 – 11.30 Uhr \nHonorar: 33 Euro  \nVeranstaltungsort: Onlineraum
URL:https://petraseubert.de/veranstaltung/update-fuer-dich-i/
LOCATION:Onlineseminarraum\, Steinheimer Str. 67\, Seligenstadt am Main\, Hessen\, 63500\, Deutschland
CATEGORIES:1. Bewusstsein
ATTACH;FMTTYPE=image/jpeg:https://petraseubert.de/wp-content/uploads/2020/03/Erwachen_petraseubert.jpeg
END:VEVENT
BEGIN:VEVENT
DTSTART;TZID=Europe/Berlin:20200508T163000
DTEND;TZID=Europe/Berlin:20200508T180000
DTSTAMP:20260423T020527
CREATED:20200419T110014Z
LAST-MODIFIED:20200505T110100Z
UID:10001011-1588955400-1588960800@petraseubert.de
SUMMARY:«BEWUSSTSEIN FUER DIE NEUE ZEIT . RESET»
DESCRIPTION:«BEWUSSTSEIN  . RESET . MEDITATION» \nSei du selbst der Wandel\, den du in der Welt sehen möchtest. \nDIe Welt ordnet sich neu und das Feld dahinter noch viel mehr. Nun ist Ausrichtung der höchsten Ordnung gefragt … Damit das Feld für tiefgreifenden und wohlwollenden Wandel immer stabiler wird. Sei daher klar\, was dir wichtig ist und nehme Einfluss. Halte deine Energie\, deine Ausrichtung und dein Bewusstsein. Begleite dadurch den im Moment stattfindenden Wandel. Weit über diesen Moment hinaus … \n\n\n\n\nOnlineseminar \nSinnvoller und verantwortungsreicher Umgang weit über das hinaus\, was gerade geschieht:  \n08.05.2020 von 16.30 – 18.00 Uhr \n13.05.2020 von 10.00 – 11.30 Uhr \nHonorar: je 33 Euro  \nVeranstaltungsort: Onlineraum
URL:https://petraseubert.de/veranstaltung/bewusstsein-reset-meditation/2020-05-08/
LOCATION:Onlineseminarraum\, Steinheimer Str. 67\, Seligenstadt am Main\, Hessen\, 63500\, Deutschland
CATEGORIES:1. Bewusstsein
ATTACH;FMTTYPE=image/jpeg:https://petraseubert.de/wp-content/uploads/2020/03/Erwachen_petraseubert.jpeg
END:VEVENT
BEGIN:VEVENT
DTSTART;TZID=Europe/Berlin:20200513T100000
DTEND;TZID=Europe/Berlin:20200518T113000
DTSTAMP:20260423T020527
CREATED:20200419T110014Z
LAST-MODIFIED:20200505T110100Z
UID:10001012-1589364000-1589801400@petraseubert.de
SUMMARY:«BEWUSSTSEIN FUER DIE NEUE ZEIT . RESET»
DESCRIPTION:«BEWUSSTSEIN  . RESET . MEDITATION» \nSei du selbst der Wandel\, den du in der Welt sehen möchtest. \nDIe Welt ordnet sich neu und das Feld dahinter noch viel mehr. Nun ist Ausrichtung der höchsten Ordnung gefragt … Damit das Feld für tiefgreifenden und wohlwollenden Wandel immer stabiler wird. Sei daher klar\, was dir wichtig ist und nehme Einfluss. Halte deine Energie\, deine Ausrichtung und dein Bewusstsein. Begleite dadurch den im Moment stattfindenden Wandel. Weit über diesen Moment hinaus … \n\n\n\n\nOnlineseminar \nSinnvoller und verantwortungsreicher Umgang weit über das hinaus\, was gerade geschieht:  \n08.05.2020 von 16.30 – 18.00 Uhr \n13.05.2020 von 10.00 – 11.30 Uhr \nHonorar: je 33 Euro  \nVeranstaltungsort: Onlineraum
URL:https://petraseubert.de/veranstaltung/bewusstsein-reset-meditation/2020-05-13/
LOCATION:Onlineseminarraum\, Steinheimer Str. 67\, Seligenstadt am Main\, Hessen\, 63500\, Deutschland
CATEGORIES:1. Bewusstsein
ATTACH;FMTTYPE=image/jpeg:https://petraseubert.de/wp-content/uploads/2020/03/Erwachen_petraseubert.jpeg
END:VEVENT
BEGIN:VEVENT
DTSTART;TZID=Europe/Berlin:20210907T202000
DTEND;TZID=Europe/Berlin:20210907T205000
DTSTAMP:20260423T020527
CREATED:20210308T120910Z
LAST-MODIFIED:20210902T100448Z
UID:10001041-1631046000-1631047800@petraseubert.de
SUMMARY:Dienstagsmeditation . Septemberabo
DESCRIPTION:ENERGIEERHÖHUNG . AUSRICHTUNG . BALANCE\n \nDeine Aufmerksamkeit für dich nutzen\, innere Bewusstseinsräume erschliessen\, Energie erhöhen\, Balance zulassen\n \nDich-Spüren und gesünder werden und sein.\n \n  \nDatum: 07.09.\, 14.9.\, 21.09. und 28.09.2021\n \nDauer: max 30 min \n  \nHonorar: 44 Euro  \n\n  \n 
URL:https://petraseubert.de/veranstaltung/dienstagsmeditationen-september/
LOCATION:YOGARAUM (bei ausreichend LIVE-Anmeldungen) und Zoom
CATEGORIES:2. Gesundheit
ATTACH;FMTTYPE=image/jpeg:https://petraseubert.de/wp-content/uploads/2019/06/Veranstaltung_Gesundheit-Pur.jpg
END:VEVENT
BEGIN:VEVENT
DTSTART;TZID=Europe/Berlin:20211117T073000
DTEND;TZID=Europe/Berlin:20211117T075000
DTSTAMP:20260423T020527
CREATED:20211025T190417Z
LAST-MODIFIED:20211031T110833Z
UID:10001064-1637134200-1637135400@petraseubert.de
SUMMARY:Morgenmeditationen für Dich
DESCRIPTION:Diese Morgenmeditation ist ein Sprungbrett in einen gelingenden und gut gebahnten Tag. Am Morgen dem eigenen Geist Ordnung schenken\, sich in guter Energie auf sich und seinen Vorhaben einstimmen und bestmöglichst die Weichen für sich zu stellen sind eine sehr gute Basis. Aufgrund der kurzen Dauer (15- minütige-Meditation) ist diese Morgenmeditation auch interessant für Teams zum Arbeitsbeginn und für die\, die sich langsam dem Meditationsraum im Innern nähern möchten. \n  \nDaten: 17.11.\, 01.12 und 15.12.2021 \nHonorar: 8 Euro / je Morgen \nPaypalzahlung:  \n \n  \nGesamt: 22 Euro \nPaypalzahlung:  \n \n  \n  \n 
URL:https://petraseubert.de/veranstaltung/morgenmeditationen-fuer-dich/2021-11-17/
LOCATION:YOGARAUM (bei ausreichend LIVE-Anmeldungen) und Zoom
CATEGORIES:2. Gesundheit
ATTACH;FMTTYPE=image/jpeg:https://petraseubert.de/wp-content/uploads/2019/06/petraseubert_GesundheitPur_Meditation.jpg
END:VEVENT
BEGIN:VEVENT
DTSTART;TZID=Europe/Berlin:20211201T073000
DTEND;TZID=Europe/Berlin:20211201T075000
DTSTAMP:20260423T020527
CREATED:20211025T190417Z
LAST-MODIFIED:20211031T110833Z
UID:10001065-1638343800-1638345000@petraseubert.de
SUMMARY:Morgenmeditationen für Dich
DESCRIPTION:Diese Morgenmeditation ist ein Sprungbrett in einen gelingenden und gut gebahnten Tag. Am Morgen dem eigenen Geist Ordnung schenken\, sich in guter Energie auf sich und seinen Vorhaben einstimmen und bestmöglichst die Weichen für sich zu stellen sind eine sehr gute Basis. Aufgrund der kurzen Dauer (15- minütige-Meditation) ist diese Morgenmeditation auch interessant für Teams zum Arbeitsbeginn und für die\, die sich langsam dem Meditationsraum im Innern nähern möchten. \n  \nDaten: 17.11.\, 01.12 und 15.12.2021 \nHonorar: 8 Euro / je Morgen \nPaypalzahlung:  \n \n  \nGesamt: 22 Euro \nPaypalzahlung:  \n \n  \n  \n 
URL:https://petraseubert.de/veranstaltung/morgenmeditationen-fuer-dich/2021-12-01/
LOCATION:YOGARAUM (bei ausreichend LIVE-Anmeldungen) und Zoom
CATEGORIES:2. Gesundheit
ATTACH;FMTTYPE=image/jpeg:https://petraseubert.de/wp-content/uploads/2019/06/petraseubert_GesundheitPur_Meditation.jpg
END:VEVENT
BEGIN:VEVENT
DTSTART;TZID=Europe/Berlin:20211215T073000
DTEND;TZID=Europe/Berlin:20211215T075000
DTSTAMP:20260423T020527
CREATED:20211025T190417Z
LAST-MODIFIED:20211031T110833Z
UID:10001066-1639553400-1639554600@petraseubert.de
SUMMARY:Morgenmeditationen für Dich
DESCRIPTION:Diese Morgenmeditation ist ein Sprungbrett in einen gelingenden und gut gebahnten Tag. Am Morgen dem eigenen Geist Ordnung schenken\, sich in guter Energie auf sich und seinen Vorhaben einstimmen und bestmöglichst die Weichen für sich zu stellen sind eine sehr gute Basis. Aufgrund der kurzen Dauer (15- minütige-Meditation) ist diese Morgenmeditation auch interessant für Teams zum Arbeitsbeginn und für die\, die sich langsam dem Meditationsraum im Innern nähern möchten. \n  \nDaten: 17.11.\, 01.12 und 15.12.2021 \nHonorar: 8 Euro / je Morgen \nPaypalzahlung:  \n \n  \nGesamt: 22 Euro \nPaypalzahlung:  \n \n  \n  \n 
URL:https://petraseubert.de/veranstaltung/morgenmeditationen-fuer-dich/2021-12-15/
LOCATION:YOGARAUM (bei ausreichend LIVE-Anmeldungen) und Zoom
CATEGORIES:2. Gesundheit
ATTACH;FMTTYPE=image/jpeg:https://petraseubert.de/wp-content/uploads/2019/06/petraseubert_GesundheitPur_Meditation.jpg
END:VEVENT
END:VCALENDAR